BEGIN:VCALENDAR
VERSION:2.0
PRODID:www.stappen-shoppen.nl
BEGIN:VEVENT
UID:stappen-shoppen.nl/entity/69e82e0014667318e267e121
DTSTAMP:20260423T170617Z
ORGANIZER;CN=:MAILTO:info@denobelaer.nl 
DTSTART:20260610T123000Z
DTEND:20260610T140000Z
URL:https://m-en.etten-leurcityapp.nl/ical/69e82e0014667318e267e121
SUMMARY:Buitenspeeldag 2026
DESCRIPTION:Op woensdag 10 juni 2026 verandert heel Nederland in één grote buitenspeelplek tijdens de Nationale Buitenspeeldag. Na een geslaagde tweede editie organiseert de speelotheek ook dit jaar een gezellige Buitenspeeldag op het terras van De Nobelaer van 14:30…
END:VEVENT
END:VCALENDAR

